BEGIN:VCALENDAR
VERSION:2.0
BEGIN:VEVENT
URL:https://heli.lu/club-en/events/viewevent/8-jetpower.html 
DTSTART:20150918T100000
DTEND:20150920T200000
SUMMARY:JetPower
DESCRIPTION:
LOCATION:Luftsportverein Bad Neuenahr-Ahrweiler e.V.
END:VEVENT
END:VCALENDAR