BEGIN:VCALENDAR
VERSION:2.0
BEGIN:VEVENT
URL:https://heli.lu/club-en/events/viewevent/5-jetpower.html 
DTSTART:20140919T100000
DTEND:20140921T200000
SUMMARY:JetPower
DESCRIPTION:
LOCATION:Luftsportverein Bad Neuenahr-Ahrweiler e.V.
END:VEVENT
END:VCALENDAR