BEGIN:VCALENDAR
VERSION:2.0
BEGIN:VEVENT
URL:https://heli.lu/club-en/events/viewevent/4-saarland-jetmeeting-2014.html 
DTSTART:20140830T000000
DTEND:20140831T190000
SUMMARY:Saarland Jetmeeting 2014
DESCRIPTION:<p>
	<span style="text-decoration: underline;"><strong>Anfahrt</strong> : </span></p>
<p>
	Die Anfahrt ist über die A8/A620 Abfahrt Saarlouis/Wallerfangen. durch Wallerfangen durchfahren dann die letzte Staße im Ort links in Richtung St.Barbara/Gisingen halten. Anschließend dem Straßenverlauf folgen bis Rammelfangen. Im Ort die erste Straße rechts, dann den nächsten Feldweg wieder rechtsfahren. Ist an diesen Tagen aber auch ausgeschildert !</p>
<p>
	Koordinaten: Breitengrad:49.3395, Längengrad:6.6411 , Höhe über NN: 359m</p>
LOCATION:Rammelfangen, Germany
END:VEVENT
END:VCALENDAR