BEGIN:VCALENDAR
VERSION:2.0
BEGIN:VEVENT
URL:https://heli.lu/club-en/events/viewevent/3-meeting-international-aeronautique-2014.html 
DTSTART:20140720T100000
DTEND:20140720T180000
SUMMARY:Meeting International Aéronautique 2014
DESCRIPTION:<p>
	<span class="postbody">L'Areo Club Dudelange vous invite à leur Meeting International Aéronautique 2014 qui aura lieu le dimanche 20 juillet 2014 à partir de 10h00 sur leur site à Dudelange/Boudersberg.</span></p>
LOCATION:Boudersberg, Dudelange
END:VEVENT
END:VCALENDAR