BEGIN:VCALENDAR
VERSION:2.0
BEGIN:VEVENT
URL:https://heli.lu/club-en/events/viewevent/2-jetpower.html 
DTSTART:20130913T000000
DTEND:20130916T235959
SUMMARY:JetPower
DESCRIPTION:<p style="margin: 12px 0px; padding: 0px; color: rgb(56, 65, 66); font-family: Arial, Helvetica, sans-serif; font-size: 13px; line-height: 19px; background-color: rgb(221, 221, 221);">
	Liebe Besucher,</p>
<p style="margin: 12px 0px; padding: 0px; color: rgb(56, 65, 66); font-family: Arial, Helvetica, sans-serif; font-size: 13px; line-height: 19px; background-color: rgb(221, 221, 221);">
	vom <span style="text-decoration: underline;">13. bis 15. September 2013</span> öffnet die JetPower-Messe wieder ihre Tore. Auch im Jahr nach dem zehnjährigen Jubiläum wird wieder alles geboten, was mit dem turbinenbetriebenen Modellflug zu tun hat: Jet-, Helikopter- und Turboprop-Modelle, Turbinen, Fahrwerke, RC-Technik und alle nur denkbaren Zubehöre, außerdem E-Impeller-Modelle und die zugehörigen Antriebe, präsentiert von rund 120 Ausstellern aus aller Welt. Die Kombination von Verkaufsmesse und Flugschau bietet die einmalige Gelegenheit, die faszinierende Technik auch live in Aktion zu erleben. Bereichert werden die Vorführungen der Modelle durch Schauflug-Einlagen von manntragenden Flugzeugen. Außerdem wird die Nachtflugschau am Samstag wieder ein besonderes Ereignis sein. Der Flugplatz &ldquo;Bengener Heide&rdquo; in Bad Neuenahr-Ahrweiler wird an diesen drei Tagen zu einem echten Erlebnispark für Jung und Alt, für Modellflieger und Flugbegeisterte. Der Restaurationsbetrieb mit zahlreichen Spezialitäten zu moderaten Preisen sorgt an allen drei Tagen dafür, dass auch das leibliche Wohl nicht zu kurz kommt.</p>
<p style="margin: 12px 0px; padding: 0px; color: rgb(56, 65, 66); font-family: Arial, Helvetica, sans-serif; font-size: 13px; line-height: 19px; background-color: rgb(221, 221, 221);">
	Wir freuen uns auf Ihren Besuch &hellip;.</p>
<p style="margin: 12px 0px; padding: 0px; color: rgb(56, 65, 66); font-family: Arial, Helvetica, sans-serif; font-size: 13px; line-height: 19px; background-color: rgb(221, 221, 221);">
	Das Abendprogramm der JetPower sieht wie folgt aus:</p>
<ul style="margin: 1em 0px 1em 2em; padding: 0px; list-style-type: none; color: rgb(56, 65, 66); font-family: Arial, Helvetica, sans-serif; font-size: 13px; line-height: 19px; background-color: rgb(221, 221, 221);">
	<li style="margin: 0px; padding: 0px 0px 0px 13px; font-family: Tahoma, Arial, Helvetica, sans-serif; font-size: 12px; text-align: left; line-height: 18px; background-image: url(http://www.jetpower-messe.de/neu/wp-content/themes/jetpower_messe/images/postbullets.png); overflow-x: visible; overflow-y: hidden; background-repeat: no-repeat no-repeat;">
		Donnerstag 12. September: Ausstellerinformation und &ldquo;Welcome Party&rdquo;</li>
	<li style="margin: 0px; padding: 0px 0px 0px 13px; font-family: Tahoma, Arial, Helvetica, sans-serif; font-size: 12px; text-align: left; line-height: 18px; background-image: url(http://www.jetpower-messe.de/neu/wp-content/themes/jetpower_messe/images/postbullets.png); overflow-x: visible; overflow-y: hidden; background-repeat: no-repeat no-repeat;">
		Freitag 13. September: JetPower Party mit der Lifeband Los Rockos und DJ Axel</li>
	<li style="margin: 0px; padding: 0px 0px 0px 13px; font-family: Tahoma, Arial, Helvetica, sans-serif; font-size: 12px; text-align: left; line-height: 18px; background-image: url(http://www.jetpower-messe.de/neu/wp-content/themes/jetpower_messe/images/postbullets.png); overflow-x: visible; overflow-y: hidden; background-repeat: no-repeat no-repeat;">
		Samstag 14. September: Nacht der Feuer, im Anschluss Aftershow-Party mit DJ Axel</li>
	<li style="margin: 0px; padding: 0px 0px 0px 13px; font-family: Tahoma, Arial, Helvetica, sans-serif; font-size: 12px; text-align: left; line-height: 18px; background-image: url(http://www.jetpower-messe.de/neu/wp-content/themes/jetpower_messe/images/postbullets.png); overflow-x: visible; overflow-y: hidden; background-repeat: no-repeat no-repeat;">
		Sonntag 15 September: gemütliches Abschiednehmen für alle, die bis Montagmorgen bleiben</li>
</ul>
LOCATION:Luftsportverein Bad Neuenahr-Ahrweiler e.V.
END:VEVENT
END:VCALENDAR