BEGIN:VCALENDAR
VERSION:2.0
BEGIN:VEVENT
URL:https://heli.lu/club-en/events/viewevent/18-concours-planeurs-f5j.html 
DTSTART:20170903T100000
DTEND:20170903T181500
SUMMARY:Concours planeurs F5J
DESCRIPTION:<br />
LOCATION:Dudelange
END:VEVENT
END:VCALENDAR