BEGIN:VCALENDAR
VERSION:2.0
BEGIN:VEVENT
URL:https://heli.lu/club-en/events/viewevent/15-16-poeting-turbinen-meeting.html 
DTSTART:20170617T080000
DTEND:20170618T180000
SUMMARY:16. Pöting Turbinen Meeting
DESCRIPTION:<br /><p>Schon zum 16. male findet in Kreuztal Littfeld das beliebte Turbinen Meeting statt. Hier treffen sich mehr als 50 Heli begeisterte Piloten auch aus dem  Ausland um ein schönes und lustiges Wochenende und Gleichgesinnten zu verleben. Es werden alle Scalehelis zugelassen ! Egal wie groß,egal welcher Antrieb.
</p><p>Das Treffen findet am 17. und 18. Juni 2017 statt und ist natürlich wegen der vielen tollen Vorführungen auch für Zuschauer sehr Interessant !
</p><p>Wie in jedem Jahr mache ich es zusammen mit dem MFC Littfetal, welcher für eine gute Gastfreudschaft und Verpflegung sorgt. Fürs Navi bitte die Müsener Strasse 56 eingeben....
</p><p>Wir sehen uns !!</p><p><a href="https://www.poeting1.de/16-p%C3%B6ting-turbinen-meeting/" target="_blank">Link</a></p>
LOCATION:Müsener Strasse 56, Kreuztal Littfeld
END:VEVENT
END:VCALENDAR