BEGIN:VCALENDAR
VERSION:2.0
BEGIN:VEVENT
URL:https://heli.lu/club-en/events/viewevent/1-flugtag-mbc-weiten.html 
DTSTART:20130831T000000
DTEND:20130901T235959
SUMMARY:Flugtag MBC Weiten
DESCRIPTION:<p style="margin: 0.5em 0px; padding: 0px; border: 0px; outline: 0px; vertical-align: baseline; text-align: justify; color: rgb(85, 85, 102); font-family: Arial, Helvetica, sans-serif; line-height: 18px;">
	<strong style="margin: 0px; padding: 0px; border: 0px; outline: 0px; vertical-align: baseline;"><span style="margin: 0px; padding: 0px; border: 0px; outline: 0px; font-size: small; vertical-align: baseline;">Großer Flugtag des MBC Weiten am Samstag 31.08.2013 bis Sonntag 01.09.2013 ab 10:00 Uhr. Gastpiloten mit einer gültigen Versicherung sind herzlich eingeladen, eine Voranmeldung ist nicht notwendig.</span></strong></p>
<p style="margin: 0.5em 0px; padding: 0px; border: 0px; outline: 0px; vertical-align: baseline; text-align: justify; color: rgb(85, 85, 102); font-family: Arial, Helvetica, sans-serif; line-height: 18px;">
	<strong style="margin: 0px; padding: 0px; border: 0px; outline: 0px; vertical-align: baseline;"><span style="margin: 0px; padding: 0px; border: 0px; outline: 0px; font-size: small; vertical-align: baseline;">Für Speis und Trank ist bestens gesorgt!</span></strong></p>
<p>
	<a href="http://www.mbc-weiten.de/">http://www.mbc-weiten.de/</a></p>
LOCATION:49.533495, 6.499697
END:VEVENT
END:VCALENDAR